BEGIN:VCALENDAR
VERSION:2.0
PRODID:-//CTIP - ECPv6.15.18//NONSGML v1.0//EN
CALSCALE:GREGORIAN
METHOD:PUBLISH
X-ORIGINAL-URL:https://ctip.org.uk
X-WR-CALDESC:Events for CTIP
REFRESH-INTERVAL;VALUE=DURATION:PT1H
X-Robots-Tag:noindex
X-PUBLISHED-TTL:PT1H
BEGIN:VTIMEZONE
TZID:UTC
BEGIN:STANDARD
TZOFFSETFROM:+0000
TZOFFSETTO:+0000
TZNAME:UTC
DTSTART:20220101T000000
END:STANDARD
END:VTIMEZONE
BEGIN:VEVENT
DTSTART;TZID=UTC:20241012T100000
DTEND;TZID=UTC:20241012T160000
DTSTAMP:20260420T110122
CREATED:20241009T091452Z
LAST-MODIFIED:20241009T091452Z
UID:10000353-1728727200-1728748800@ctip.org.uk
SUMMARY:Week of prayer meeting @ St Paul's
DESCRIPTION:Churches are invited to use their scheduled weekly church prayer meeting for the purpose of the ‘National Week of Prayer’ during 12-20 October 2024.  The ‘Plymouth Prayer Menu’ is available to inform and encourage their prayers. \n \nIf any church is joining in the NWoP\, could they please advise Churches Together ( ctipcity@gmail.com ) and say if their meeting is open to Christians from other churches to attend as well… \n \nThere is a day dedicated to prayer and seeking over the matters raised in the Prayer Menu\, held at St Paul’s Church\, Durnford St PL1 3QR 10am to 4pm Sat 12th October. All are warmly invited to join in this special day; ‘Come when you can – go when you must’!!
URL:https://ctip.org.uk/event-list/week-of-prayer-meeting-st-pauls/
LOCATION:St Paul’s Church\, Stonehouse\, Plymouth\, PL1 3QR
END:VEVENT
BEGIN:VEVENT
DTSTART;TZID=UTC:20231219T103000
DTEND;TZID=UTC:20231219T123000
DTSTAMP:20260420T110122
CREATED:20231122T163119Z
LAST-MODIFIED:20231122T165022Z
UID:10000298-1702981800-1702989000@ctip.org.uk
SUMMARY:A Relaxed Dementia Friendly Carol Service
DESCRIPTION:
URL:https://ctip.org.uk/event-list/a-relaxed-christmas-carol-service/
LOCATION:St Paul’s Church\, Stonehouse\, Plymouth\, PL1 3QR
END:VEVENT
END:VCALENDAR