BEGIN:VCALENDAR
VERSION:2.0
PRODID:-//CTIP - ECPv6.15.18//NONSGML v1.0//EN
CALSCALE:GREGORIAN
METHOD:PUBLISH
X-WR-CALNAME:CTIP
X-ORIGINAL-URL:https://ctip.org.uk
X-WR-CALDESC:Events for CTIP
REFRESH-INTERVAL;VALUE=DURATION:PT1H
X-Robots-Tag:noindex
X-PUBLISHED-TTL:PT1H
BEGIN:VTIMEZONE
TZID:UTC
BEGIN:STANDARD
TZOFFSETFROM:+0000
TZOFFSETTO:+0000
TZNAME:UTC
DTSTART:20220101T000000
END:STANDARD
END:VTIMEZONE
BEGIN:VEVENT
DTSTART;TZID=UTC:20240807T183000
DTEND;TZID=UTC:20240807T204500
DTSTAMP:20260420T180431
CREATED:20240802T130323Z
LAST-MODIFIED:20240802T130323Z
UID:10000340-1723055400-1723063500@ctip.org.uk
SUMMARY:All Christians Together and friends (ACTaf)
DESCRIPTION:Wednesday August 7th \nSt Budeaux Parish Church Hall\, The Green\, Higher St Budeaux PL5 2HN \nFocus on young people and especially ‘Youth for Christ’. \n6.30\, We share a light ‘bring & share’ supper.   🍇 🍉 drinks provided. * \n7.15 worship\, ministry group testimony\, meeting with those from different congregations of the body of Christ\, Opportunity for ministry.  We aim to finish at 8.45. \nAll Christians Together and friends (ACTaf) \nBy the authority of our Lord Jesus Christ\, I appeal to all of you my brothers and sisters\, to agree in what you say\, so that there will be no divisions among you.  Be completely united\, with only one thought and purpose.’  (1 Corinthians 1.10).
URL:https://ctip.org.uk/event-list/all-christians-together-and-friends-actaf/
LOCATION:St Budeaux Parish church\, The green\, Higher St Budeaux\, Plymouth\, PL5 2HN
END:VEVENT
BEGIN:VEVENT
DTSTART;TZID=UTC:20231011T120000
DTEND;TZID=UTC:20231011T133000
DTSTAMP:20260420T180431
CREATED:20230914T102454Z
LAST-MODIFIED:20230914T102454Z
UID:10000190-1697025600-1697031000@ctip.org.uk
SUMMARY:Pray for St Budeaux\, Ernesettle and Barne Barton
DESCRIPTION:
URL:https://ctip.org.uk/event-list/pray-for-st-budeaux-ernesettle-and-barne-barton/
LOCATION:St Budeaux Parish church\, The green\, Higher St Budeaux\, Plymouth\, PL5 2HN
END:VEVENT
END:VCALENDAR