BEGIN:VCALENDAR
VERSION:2.0
PRODID:-//CTIP - ECPv6.15.18//NONSGML v1.0//EN
CALSCALE:GREGORIAN
METHOD:PUBLISH
X-ORIGINAL-URL:https://ctip.org.uk
X-WR-CALDESC:Events for CTIP
REFRESH-INTERVAL;VALUE=DURATION:PT1H
X-Robots-Tag:noindex
X-PUBLISHED-TTL:PT1H
BEGIN:VTIMEZONE
TZID:UTC
BEGIN:STANDARD
TZOFFSETFROM:+0000
TZOFFSETTO:+0000
TZNAME:UTC
DTSTART:20230101T000000
END:STANDARD
END:VTIMEZONE
BEGIN:VEVENT
DTSTART;TZID=UTC:20240629T190000
DTEND;TZID=UTC:20240629T190000
DTSTAMP:20260422T143419
CREATED:20240610T154330Z
LAST-MODIFIED:20240613T133321Z
UID:10000331-1719687600-1719687600@ctip.org.uk
SUMMARY:The Creator's Creatives Showcase
DESCRIPTION:The Creator’s Creatives Showcase – 7-9pm\, Sat 29th June\, The Market Hall Dome\, Devonport\, Price: £10 (£5 for unwaged and under 18s)
URL:https://ctip.org.uk/event-list/the-creators-creatives-showcase/
LOCATION:Market Hall\, Devonport\, PLYMOUTH\, PL1 4PS
END:VEVENT
END:VCALENDAR