BEGIN:VCALENDAR
VERSION:2.0
PRODID:-//CTIP - ECPv6.15.18//NONSGML v1.0//EN
CALSCALE:GREGORIAN
METHOD:PUBLISH
X-WR-CALNAME:CTIP
X-ORIGINAL-URL:https://ctip.org.uk
X-WR-CALDESC:Events for CTIP
REFRESH-INTERVAL;VALUE=DURATION:PT1H
X-Robots-Tag:noindex
X-PUBLISHED-TTL:PT1H
BEGIN:VTIMEZONE
TZID:UTC
BEGIN:STANDARD
TZOFFSETFROM:+0000
TZOFFSETTO:+0000
TZNAME:UTC
DTSTART:20230101T000000
END:STANDARD
END:VTIMEZONE
BEGIN:VEVENT
DTSTART;VALUE=DATE:20240613
DTEND;VALUE=DATE:20240614
DTSTAMP:20260420T161515
CREATED:20240516T091727Z
LAST-MODIFIED:20240516T091826Z
UID:10000328-1718236800-1718323199@ctip.org.uk
SUMMARY:Dartmoor Singing Rooms
DESCRIPTION:
URL:https://ctip.org.uk/event-list/dartmoor-singing-rooms/
LOCATION:East Shallowford Farm\, TQ13 7PW
END:VEVENT
END:VCALENDAR