BEGIN:VCALENDAR
VERSION:2.0
PRODID:-//CTIP - ECPv6.15.18//NONSGML v1.0//EN
CALSCALE:GREGORIAN
METHOD:PUBLISH
X-ORIGINAL-URL:https://ctip.org.uk
X-WR-CALDESC:Events for CTIP
REFRESH-INTERVAL;VALUE=DURATION:PT1H
X-Robots-Tag:noindex
X-PUBLISHED-TTL:PT1H
BEGIN:VTIMEZONE
TZID:UTC
BEGIN:STANDARD
TZOFFSETFROM:+0000
TZOFFSETTO:+0000
TZNAME:UTC
DTSTART:20220101T000000
END:STANDARD
END:VTIMEZONE
BEGIN:VEVENT
DTSTART;TZID=UTC:20240629T070000
DTEND;TZID=UTC:20240629T090000
DTSTAMP:20260422T142848
CREATED:20240516T091432Z
LAST-MODIFIED:20240516T091432Z
UID:10000327-1719644400-1719651600@ctip.org.uk
SUMMARY:Singing Rooms
DESCRIPTION:
URL:https://ctip.org.uk/event-list/singing-rooms-2/
LOCATION:discovery cafe\, Discovery Café\, Plymouth\, PL1 1BA
END:VEVENT
BEGIN:VEVENT
DTSTART;TZID=UTC:20240518T070000
DTEND;TZID=UTC:20240518T090000
DTSTAMP:20260422T142848
CREATED:20240516T091253Z
LAST-MODIFIED:20240516T091253Z
UID:10000265-1716015600-1716022800@ctip.org.uk
SUMMARY:Singing Rooms
DESCRIPTION: 
URL:https://ctip.org.uk/event-list/singing-rooms/
LOCATION:discovery cafe\, Discovery Café\, Plymouth\, PL1 1BA
END:VEVENT
BEGIN:VEVENT
DTSTART;TZID=UTC:20240323T070000
DTEND;TZID=UTC:20240323T090000
DTSTAMP:20260422T142848
CREATED:20240123T161125Z
LAST-MODIFIED:20240123T161125Z
UID:10000313-1711177200-1711184400@ctip.org.uk
SUMMARY:Singing Rooms @ Discovery Café
DESCRIPTION:
URL:https://ctip.org.uk/event-list/singing-rooms-discovery-cafe-3/
LOCATION:discovery cafe\, Discovery Café\, Plymouth\, PL1 1BA
END:VEVENT
BEGIN:VEVENT
DTSTART;TZID=UTC:20240210T070000
DTEND;TZID=UTC:20240210T090000
DTSTAMP:20260422T142848
CREATED:20240123T161010Z
LAST-MODIFIED:20240123T161010Z
UID:10000312-1707548400-1707555600@ctip.org.uk
SUMMARY:Singing Rooms @ Discovery Café
DESCRIPTION:
URL:https://ctip.org.uk/event-list/singing-rooms-discovery-cafe-2/
LOCATION:discovery cafe\, Discovery Café\, Plymouth\, PL1 1BA
END:VEVENT
BEGIN:VEVENT
DTSTART;TZID=UTC:20240127T070000
DTEND;TZID=UTC:20240127T090000
DTSTAMP:20260422T142848
CREATED:20240123T160850Z
LAST-MODIFIED:20240123T160850Z
UID:10000311-1706338800-1706346000@ctip.org.uk
SUMMARY:Singing Rooms @ Discovery Café
DESCRIPTION:
URL:https://ctip.org.uk/event-list/singing-rooms-discovery-cafe/
LOCATION:discovery cafe\, Discovery Café\, Plymouth\, PL1 1BA
END:VEVENT
BEGIN:VEVENT
DTSTART;TZID=UTC:20230923T070000
DTEND;TZID=UTC:20230923T090000
DTSTAMP:20260422T142848
CREATED:20230920T133747Z
LAST-MODIFIED:20230920T133747Z
UID:10000212-1695452400-1695459600@ctip.org.uk
SUMMARY:Worship Breakfast @ Discovery Café
DESCRIPTION:
URL:https://ctip.org.uk/event-list/worship-breakfast-discovery-cafe/
LOCATION:discovery cafe\, Discovery Café\, Plymouth\, PL1 1BA
END:VEVENT
BEGIN:VEVENT
DTSTART;TZID=UTC:20230729T070000
DTEND;TZID=UTC:20230729T090000
DTSTAMP:20260422T142848
CREATED:20230712T105403Z
LAST-MODIFIED:20230712T111906Z
UID:10000186-1690614000-1690621200@ctip.org.uk
SUMMARY:Singing Rooms Worship Breakfast Saturday July 29th
DESCRIPTION:It’s been a season of lots of change and time constraints\, but we’re getting there! And we’re very much looking forward to having a regional Singing Rooms get together on Saturday July 29th at the usual time of 7 -9am followed by the fellowship breakfast at the Discovery Café. \nWe’re delighted to have with us: \n7 -7.40am Rachel Portsmouth \n7.40 – 8.20am David Ross co-leading with Kim & Taran Ash \n8.20am – 9am Steve Gibson co-leading with Will Allen \nAlso lovely that Mike Flautier will be joining us musically as well. \nThis will be the 10th Anniversary for Singing Rooms. The Lord said to me in the season before we got going with this ministry\, “when you start Singing Rooms\, you will not be disappointed”. And it has been so true. One of the main keys to Singing Rooms is for the leaders to worship before an ‘audience of One’. Whether we have had a room full of people or just two or three\, when the Lord draws close there is nowhere else in the world you would have wanted to be. We all have so many precious memories\, so many precious moments in HIs presence. Thank you for being part of the journey.
URL:https://ctip.org.uk/event-list/singing-rooms-worship-breakfast-coming-up-saturday-july-29th/
LOCATION:discovery cafe\, Discovery Café\, Plymouth\, PL1 1BA
END:VEVENT
END:VCALENDAR