BEGIN:VCALENDAR
VERSION:2.0
PRODID:-//CTIP - ECPv6.15.18//NONSGML v1.0//EN
CALSCALE:GREGORIAN
METHOD:PUBLISH
X-WR-CALNAME:CTIP
X-ORIGINAL-URL:https://ctip.org.uk
X-WR-CALDESC:Events for CTIP
REFRESH-INTERVAL;VALUE=DURATION:PT1H
X-Robots-Tag:noindex
X-PUBLISHED-TTL:PT1H
BEGIN:VTIMEZONE
TZID:UTC
BEGIN:STANDARD
TZOFFSETFROM:+0000
TZOFFSETTO:+0000
TZNAME:UTC
DTSTART:20230101T000000
END:STANDARD
END:VTIMEZONE
BEGIN:VEVENT
DTSTART;TZID=UTC:20250619T100000
DTEND;TZID=UTC:20250619T120000
DTSTAMP:20260420T200116
CREATED:20250605T105833Z
LAST-MODIFIED:20250605T123826Z
UID:10001513-1750327200-1750334400@ctip.org.uk
SUMMARY:Prayer @ Council Chambers
DESCRIPTION:
URL:https://ctip.org.uk/event-list/prayer-council-chambers/
LOCATION:Council Chamber\, Council Chamber\, Plymouth\, PL1 2AA
END:VEVENT
BEGIN:VEVENT
DTSTART;TZID=UTC:20240213T100000
DTEND;TZID=UTC:20240213T120000
DTSTAMP:20260420T200116
CREATED:20240115T142507Z
LAST-MODIFIED:20240115T142507Z
UID:10000305-1707818400-1707825600@ctip.org.uk
SUMMARY:Council Chamber Prayer with Tudor Evans
DESCRIPTION:
URL:https://ctip.org.uk/event-list/council-chamber-prayer-with-tudor-evans/
LOCATION:Council Chamber\, Council Chamber\, Plymouth\, PL1 2AA
END:VEVENT
END:VCALENDAR