BEGIN:VCALENDAR
VERSION:2.0
PRODID:-//CTIP - ECPv6.15.18//NONSGML v1.0//EN
CALSCALE:GREGORIAN
METHOD:PUBLISH
X-ORIGINAL-URL:https://ctip.org.uk
X-WR-CALDESC:Events for CTIP
REFRESH-INTERVAL;VALUE=DURATION:PT1H
X-Robots-Tag:noindex
X-PUBLISHED-TTL:PT1H
BEGIN:VTIMEZONE
TZID:UTC
BEGIN:STANDARD
TZOFFSETFROM:+0000
TZOFFSETTO:+0000
TZNAME:UTC
DTSTART:20220101T000000
END:STANDARD
END:VTIMEZONE
BEGIN:VEVENT
DTSTART;TZID=UTC:20251003T100000
DTEND;TZID=UTC:20251003T153000
DTSTAMP:20260421T014406
CREATED:20250918T134334Z
LAST-MODIFIED:20250918T134453Z
UID:10001536-1759485600-1759505400@ctip.org.uk
SUMMARY:City Life 25 Conference - Exeter
DESCRIPTION:
URL:https://ctip.org.uk/event-list/city-life-conference-exeter/
LOCATION:Belmont Chapel\, Western Way\, Exeter\, EX1 2DB
END:VEVENT
BEGIN:VEVENT
DTSTART;TZID=UTC:20231007T100000
DTEND;TZID=UTC:20231007T160000
DTSTAMP:20260421T014406
CREATED:20230920T135252Z
LAST-MODIFIED:20230920T135252Z
UID:10000280-1696672800-1696694400@ctip.org.uk
SUMMARY:The Big Training Day
DESCRIPTION:
URL:https://ctip.org.uk/event-list/the-big-training-day/
LOCATION:Belmont Chapel\, Western Way\, Exeter\, EX1 2DB
END:VEVENT
END:VCALENDAR