BEGIN:VCALENDAR
VERSION:2.0
PRODID:-//CTIP - ECPv6.15.18//NONSGML v1.0//EN
CALSCALE:GREGORIAN
METHOD:PUBLISH
X-WR-CALNAME:CTIP
X-ORIGINAL-URL:https://ctip.org.uk
X-WR-CALDESC:Events for CTIP
REFRESH-INTERVAL;VALUE=DURATION:PT1H
X-Robots-Tag:noindex
X-PUBLISHED-TTL:PT1H
BEGIN:VTIMEZONE
TZID:UTC
BEGIN:STANDARD
TZOFFSETFROM:+0000
TZOFFSETTO:+0000
TZNAME:UTC
DTSTART:20220101T000000
END:STANDARD
END:VTIMEZONE
BEGIN:VEVENT
DTSTART;TZID=UTC:20250403T120000
DTEND;TZID=UTC:20250403T140000
DTSTAMP:20260420T105509
CREATED:20250217T091445Z
LAST-MODIFIED:20250217T091445Z
UID:10001116-1743681600-1743688800@ctip.org.uk
SUMMARY:Leaders' Prayer - Beckley Point
DESCRIPTION:
URL:https://ctip.org.uk/event-list/leaders-prayer-beckley-point/
LOCATION:Beckley Point\, Beckley Point\, 39 Cobourg Street\,\, Plymouth\, PL1 1SP
END:VEVENT
BEGIN:VEVENT
DTSTART;TZID=UTC:20240221T120000
DTEND;TZID=UTC:20240221T133000
DTSTAMP:20260420T105509
CREATED:20240118T114826Z
LAST-MODIFIED:20240118T114826Z
UID:10000306-1708516800-1708522200@ctip.org.uk
SUMMARY:Leaders Prayers Beckley Point
DESCRIPTION:
URL:https://ctip.org.uk/event-list/leaders-prayers-beckley-point/
LOCATION:Beckley Point\, Beckley Point\, 39 Cobourg Street\,\, Plymouth\, PL1 1SP
END:VEVENT
BEGIN:VEVENT
DTSTART;TZID=UTC:20230323T120000
DTEND;TZID=UTC:20230323T133000
DTSTAMP:20260420T105509
CREATED:20230301T144152Z
LAST-MODIFIED:20230301T144343Z
UID:10000229-1679572800-1679578200@ctip.org.uk
SUMMARY:Leaders Prayers Beckley Point Sky Lounge
DESCRIPTION:We are gathering Church and Ministry Leaders to pray for our city at Beckley Point Sky Lounge. If you are able to come please book at events@ctip.org.uk
URL:https://ctip.org.uk/event-list/leaders-prayers-beckley-point-sky-lounge/
LOCATION:Beckley Point\, Beckley Point\, 39 Cobourg Street\,\, Plymouth\, PL1 1SP
END:VEVENT
END:VCALENDAR