BEGIN:VCALENDAR
VERSION:2.0
PRODID:-//CTIP - ECPv6.15.18//NONSGML v1.0//EN
CALSCALE:GREGORIAN
METHOD:PUBLISH
X-WR-CALNAME:CTIP
X-ORIGINAL-URL:https://ctip.org.uk
X-WR-CALDESC:Events for CTIP
REFRESH-INTERVAL;VALUE=DURATION:PT1H
X-Robots-Tag:noindex
X-PUBLISHED-TTL:PT1H
BEGIN:VTIMEZONE
TZID:UTC
BEGIN:STANDARD
TZOFFSETFROM:+0000
TZOFFSETTO:+0000
TZNAME:UTC
DTSTART:20250101T000000
END:STANDARD
END:VTIMEZONE
BEGIN:VEVENT
DTSTART;TZID=UTC:20260605T190000
DTEND;TZID=UTC:20260605T220000
DTSTAMP:20260420T160837
CREATED:20260414T081528Z
LAST-MODIFIED:20260415T101232Z
UID:10001561-1780686000-1780696800@ctip.org.uk
SUMMARY:Love Plymouth 5th June - 7th June
DESCRIPTION:
URL:https://ctip.org.uk/event-list/love-plymouth-5th-june-7th-june/
END:VEVENT
BEGIN:VEVENT
DTSTART;TZID=UTC:20260606T093000
DTEND;TZID=UTC:20260606T120000
DTSTAMP:20260420T160837
CREATED:20260224T155453Z
LAST-MODIFIED:20260224T155453Z
UID:10001548-1780738200-1780747200@ctip.org.uk
SUMMARY:Prayer Meeting for Food Bank and Lost Youth
DESCRIPTION:covering prayer dates for the foodbank and lost youth. Apart from March we meet on the first Saturday of the month. (March will be the 14th) With a rotation each month between the Foodbank and JC’s the youth café at PMCH.
URL:https://ctip.org.uk/event-list/prayer-meeting-for-food-bank-and-lost-youth-2/2026-06-06/
LOCATION:Methodist Central Hall\, Eastlake Street\, Plymouth\, Devon\, PL1 1BA\, United Kingdom
END:VEVENT
BEGIN:VEVENT
DTSTART;TZID=UTC:20260619T080000
DTEND;TZID=UTC:20260619T093000
DTSTAMP:20260420T160837
CREATED:20260226T142223Z
LAST-MODIFIED:20260227T093952Z
UID:10001556-1781856000-1781861400@ctip.org.uk
SUMMARY:CIVIC PRAYER BREAKFAST
DESCRIPTION:For more information please contact Mark Oliver by email here
URL:https://ctip.org.uk/event-list/city-prayer-breakfast/
LOCATION:Corinthian Club\, Madeira Road\, Plymouth\, PL1 2NY
END:VEVENT
END:VCALENDAR