BEGIN:VCALENDAR
VERSION:2.0
PRODID:-//CTIP - ECPv6.15.18//NONSGML v1.0//EN
CALSCALE:GREGORIAN
METHOD:PUBLISH
X-WR-CALNAME:CTIP
X-ORIGINAL-URL:https://ctip.org.uk
X-WR-CALDESC:Events for CTIP
REFRESH-INTERVAL;VALUE=DURATION:PT1H
X-Robots-Tag:noindex
X-PUBLISHED-TTL:PT1H
BEGIN:VTIMEZONE
TZID:UTC
BEGIN:STANDARD
TZOFFSETFROM:+0000
TZOFFSETTO:+0000
TZNAME:UTC
DTSTART:20210101T000000
END:STANDARD
END:VTIMEZONE
BEGIN:VEVENT
DTSTART;TZID=UTC:20221202T190000
DTEND;TZID=UTC:20221202T210000
DTSTAMP:20260424T092308
CREATED:20221111T182346Z
LAST-MODIFIED:20221111T182704Z
UID:10000193-1670007600-1670014800@ctip.org.uk
SUMMARY:Silent disco
DESCRIPTION:A team is running a silent disco event for young people aged 11-18 on Friday 2nd Dec at The Worship Centre in Estover. We ran the event last year and it was such fun!\n\nThe purpose of the event is to gather young people from across churches and groups across the city for a night of fun and getting to know each other. The theme is ‘friendship’ and there will also be a short message and opportunity to receive prayer. Please note that all young people will need to attend this event with a youth leader\, parent or responsible adult.\n\nAll the details and booking are available here: https://plymouthvineyard.churchsuite.com/events/npo2y1kf. Tickets for young people are £5 including mini pancakes and a drink\, youth leaders/adults are free.
URL:https://ctip.org.uk/event-list/silent-disco/
LOCATION:The Worship Centre\, Plymbridge Road\, Estover\,\, Plymouth\, PL6 7LF
END:VEVENT
BEGIN:VEVENT
DTSTART;TZID=UTC:20221128T093000
DTEND;TZID=UTC:20221128T150000
DTSTAMP:20260424T092308
CREATED:20221102T123957Z
LAST-MODIFIED:20221102T123957Z
UID:10000191-1669627800-1669647600@ctip.org.uk
SUMMARY:City Transformation Conference 2022
DESCRIPTION:Matt Bird is an international speaker\, author and broadcaster. He has spoken in 30 countries to more than a million people\, has written 11 books and writes for The Times newspaper. \nHe is the CEO/President of Cinnamon Network International whose vision is to see communities\, cities and nations transformed by the life and love of Jesus. \nThis year we are also looking forward to welcoming Andy Flannigan to the conference. This year is not to missed. \nEmail news@ctip.org.uk to book a place
URL:https://ctip.org.uk/event-list/city-transformation-conference-2022/
LOCATION:Methodist Central Hall\, Eastlake Street\, Plymouth\, Devon\, PL1 1BA\, United Kingdom
END:VEVENT
BEGIN:VEVENT
DTSTART;TZID=UTC:20221103T110000
DTEND;TZID=UTC:20221103T130000
DTSTAMP:20260424T092308
CREATED:20221102T123505Z
LAST-MODIFIED:20221103T124850Z
UID:10000189-1667473200-1667480400@ctip.org.uk
SUMMARY:Website training
DESCRIPTION:The CTiP team will visit the Made with Maturity office for website training. It also happens to be Ben’s birthday – so if you’re lucky you might get a birthday cookie. \nuxers-guide-to-user-personas
URL:https://ctip.org.uk/event-list/website-training/
LOCATION:Made with Maturity Studios\, Plymouth Science Park\, Plymouth\, Devon\, PL6 8BX\, United Kingdom
CATEGORIES:Training
ORGANIZER;CN="Ben Stirling":MAILTO:ben@madewithmaturity.com
END:VEVENT
BEGIN:VEVENT
DTSTART;TZID=UTC:20220815T183000
DTEND;TZID=UTC:20220815T203000
DTSTAMP:20260424T092308
CREATED:20220729T143136Z
LAST-MODIFIED:20220729T143136Z
UID:10000188-1660588200-1660595400@ctip.org.uk
SUMMARY:All Christians Together and friends summer celebration
DESCRIPTION:All Christians Together & Friends \nSUMMER CELEBRATION OF CHRIST AND OUR UNITY IN HIM \nVenue:  Catherine Street Baptist Church – adjoining Hall \nDate:  Monday August 15th \nTime:  6.30 p.m.  Bring and Share* Light Supper \nWorship:  7.15 p.m. led by All Nations Worship Group \nContent:  Thanksgivings from the Ufest in Central Park (July 30/31):  Sharing by two city wide ministry groups. \nUnity:  Opportunity to share time with Christians or their friends from different churches. \nYOU ARE WELCOME! \n(*. If you don’t bring anything there will still be enough!)
URL:https://ctip.org.uk/event-list/all-christians-together-and-friends-summer-celebration/
LOCATION:Catherine Street Baptist Church\, Catherine St\, Plymouth\, PL1 2AD\, United Kingdom
END:VEVENT
BEGIN:VEVENT
DTSTART;TZID=UTC:20220629T080000
DTEND;TZID=UTC:20220629T170000
DTSTAMP:20260424T092308
CREATED:20220629T074104Z
LAST-MODIFIED:20220629T074141Z
UID:10000187-1656489600-1656522000@ctip.org.uk
SUMMARY:test event
DESCRIPTION:test event text
URL:https://ctip.org.uk/event-list/test-event/
LOCATION:The Worship Centre\, Plymbridge Road\, Estover\,\, Plymouth\, PL6 7LF
ATTACH;FMTTYPE=image/jpeg:https://ctip.org.uk/wp-content/uploads/2022/06/IMAGE-scaled.jpg
END:VEVENT
END:VCALENDAR