BEGIN:VCALENDAR
VERSION:2.0
PRODID:-//CTIP - ECPv6.15.18//NONSGML v1.0//EN
CALSCALE:GREGORIAN
METHOD:PUBLISH
X-ORIGINAL-URL:https://ctip.org.uk
X-WR-CALDESC:Events for CTIP
REFRESH-INTERVAL;VALUE=DURATION:PT1H
X-Robots-Tag:noindex
X-PUBLISHED-TTL:PT1H
BEGIN:VTIMEZONE
TZID:UTC
BEGIN:STANDARD
TZOFFSETFROM:+0000
TZOFFSETTO:+0000
TZNAME:UTC
DTSTART:20250101T000000
END:STANDARD
END:VTIMEZONE
BEGIN:VEVENT
DTSTART;TZID=UTC:20260228T100000
DTEND;TZID=UTC:20260228T160000
DTSTAMP:20260424T235928
CREATED:20260128T123812Z
LAST-MODIFIED:20260128T124333Z
UID:10001543-1772272800-1772294400@ctip.org.uk
SUMMARY:Digital Ministry mission shed event
DESCRIPTION:How can we confidently and creatively share the Good News and build communities within our increasingly digital landscape? What are today’s best tools and techniques and what does it mean to be authentic\, contextual communicators? \nThis one-day event led by the Diocese of Exeter’s Mission Shed team\, will feature talks and workshops from the Church of England Digital Labs Team\, Emmaus Gaming and The Way UK. Book Here
URL:https://ctip.org.uk/event-list/digital-ministry-mission-shed-event/
LOCATION:St Judes\, Beaumont Road\, Plymouth\, PL4 9BJ
END:VEVENT
BEGIN:VEVENT
DTSTART;TZID=UTC:20260306T170000
DTEND;TZID=UTC:20260308T120000
DTSTAMP:20260424T235928
CREATED:20260225T104942Z
LAST-MODIFIED:20260225T104942Z
UID:10001555-1772816400-1772971200@ctip.org.uk
SUMMARY:Brave Ladies Conference and Retreat
DESCRIPTION:
URL:https://ctip.org.uk/event-list/brave-ladies-conference-and-retreat/
LOCATION:St Mellion Spa Htel\, St Mellion\, Nr Plymouth\, PL12 6SD
END:VEVENT
BEGIN:VEVENT
DTSTART;TZID=UTC:20260307T100000
DTEND;TZID=UTC:20260307T163000
DTSTAMP:20260424T235928
CREATED:20260302T112723Z
LAST-MODIFIED:20260302T112723Z
UID:10001557-1772877600-1772901000@ctip.org.uk
SUMMARY:Singing Rooms
DESCRIPTION:
URL:https://ctip.org.uk/event-list/singing-rooms-5/
LOCATION:Living Well\, Living Well Church\, Mudge Way\, Plympton\, PL7 2PS
END:VEVENT
BEGIN:VEVENT
DTSTART;TZID=UTC:20260314T093000
DTEND;TZID=UTC:20260314T120000
DTSTAMP:20260424T235928
CREATED:20260224T155005Z
LAST-MODIFIED:20260224T155005Z
UID:10001545-1773480600-1773489600@ctip.org.uk
SUMMARY:Prayer Meeting for Food Bank and Lost Youth
DESCRIPTION:prayer dates for the foodbank and lost youth. Apart from March we meet on the first Saturday of the month. (March will be the 14th) With a rotation each month between the Foodbank and JC’s the youth café at PMCH.
URL:https://ctip.org.uk/event-list/prayer-meeting-for-food-bank-and-lost-youth/
LOCATION:Methodist Central Hall\, Eastlake Street\, Plymouth\, Devon\, PL1 1BA\, United Kingdom
END:VEVENT
BEGIN:VEVENT
DTSTART;TZID=UTC:20260319T190000
DTEND;TZID=UTC:20260319T220000
DTSTAMP:20260424T235928
CREATED:20260304T112453Z
LAST-MODIFIED:20260304T113016Z
UID:10001558-1773946800-1773957600@ctip.org.uk
SUMMARY:Pregnancy Crisis Care - Quiz Night
DESCRIPTION:We are very excited to be able to invite you to join us for our \nQuiz Night with Raffle and Silent Auction \nThursday 19 March 2026 \nVenue:       Boringdon Park Golf Club\, 55 Plymbridge Road\,\n                  Plymouth PL7 4QG\nTime:         7 pm for food (this needs to be pre-ordered)\n                  7.30pm Quiz will commence\nTeams:      6 people @ £6 per head or £36 per team  \nIf you would like to be part of this great fun evening\, please email: contact@pregnancycrisiscare.org.uk
URL:https://ctip.org.uk/event-list/pregnancy-crisis-care-quiz-night/
LOCATION:Borington Park Golf Club\, 55 Plymbridge Road\, Plmouth\, PL7 4QG
END:VEVENT
BEGIN:VEVENT
DTSTART;TZID=UTC:20260404T093000
DTEND;TZID=UTC:20260404T120000
DTSTAMP:20260424T235928
CREATED:20260224T155453Z
LAST-MODIFIED:20260224T155453Z
UID:10001546-1775295000-1775304000@ctip.org.uk
SUMMARY:Prayer Meeting for Food Bank and Lost Youth
DESCRIPTION:covering prayer dates for the foodbank and lost youth. Apart from March we meet on the first Saturday of the month. (March will be the 14th) With a rotation each month between the Foodbank and JC’s the youth café at PMCH.
URL:https://ctip.org.uk/event-list/prayer-meeting-for-food-bank-and-lost-youth-2/2026-04-04/
LOCATION:Methodist Central Hall\, Eastlake Street\, Plymouth\, Devon\, PL1 1BA\, United Kingdom
END:VEVENT
BEGIN:VEVENT
DTSTART;TZID=UTC:20260413T193000
DTEND;TZID=UTC:20260413T203000
DTSTAMP:20260424T235928
CREATED:20260409T082730Z
LAST-MODIFIED:20260409T082730Z
UID:10001560-1776108600-1776112200@ctip.org.uk
SUMMARY:Pregnancy Crisis Care: Information Evening
DESCRIPTION:Jane and Sarah will be sharing an overview of the work of local charity\, Pregnancy Crisis Care\, on Monday 13th April\, 7.30pm-8.30pm at Plymouth Christian Centre. \nThis will include a background and vision of this work\, as well as more detail about what the charity does. \nFor anyone wanting to know more\, please come along.\nThis is a free event but please sign up so that we know numbers. \nSign up here
URL:https://ctip.org.uk/event-list/pregnancy-crisis-care-information-evening/
LOCATION:Plymouth Christian Centre\, Embankment Road\, Plymouth\, PL4 9HP
END:VEVENT
BEGIN:VEVENT
DTSTART;TZID=UTC:20260430T190000
DTEND;TZID=UTC:20260430T210000
DTSTAMP:20260424T235928
CREATED:20260210T155650Z
LAST-MODIFIED:20260415T144902Z
UID:10001544-1777575600-1777582800@ctip.org.uk
SUMMARY:Unity Service 26 - 30th April @ Hope Baptist Church
DESCRIPTION:
URL:https://ctip.org.uk/event-list/unity-service-26-30th-april/
LOCATION:Hope Baptist Church\, Hope Baptist Church\, Plymouth\, PL3 4QG\, United Kingdom
END:VEVENT
BEGIN:VEVENT
DTSTART;TZID=UTC:20260502T093000
DTEND;TZID=UTC:20260502T120000
DTSTAMP:20260424T235928
CREATED:20260224T155453Z
LAST-MODIFIED:20260224T155453Z
UID:10001547-1777714200-1777723200@ctip.org.uk
SUMMARY:Prayer Meeting for Food Bank and Lost Youth
DESCRIPTION:covering prayer dates for the foodbank and lost youth. Apart from March we meet on the first Saturday of the month. (March will be the 14th) With a rotation each month between the Foodbank and JC’s the youth café at PMCH.
URL:https://ctip.org.uk/event-list/prayer-meeting-for-food-bank-and-lost-youth-2/2026-05-02/
LOCATION:Methodist Central Hall\, Eastlake Street\, Plymouth\, Devon\, PL1 1BA\, United Kingdom
END:VEVENT
BEGIN:VEVENT
DTSTART;TZID=UTC:20260522T120000
DTEND;TZID=UTC:20260522T220000
DTSTAMP:20260424T235928
CREATED:20260325T160552Z
LAST-MODIFIED:20260401T135727Z
UID:10001559-1779451200-1779487200@ctip.org.uk
SUMMARY:Cornwall Bush Conference - 22nd May - 25th May
DESCRIPTION:For more information email: cornwallbushconference@hotmail.co.uk
URL:https://ctip.org.uk/event-list/cornwall-bush-conference-3/
LOCATION:Higher Chapel Farm\, Higher Chapel Farm\,\, Halton Quay\, PL12 6SL
END:VEVENT
BEGIN:VEVENT
DTSTART;TZID=UTC:20260605T190000
DTEND;TZID=UTC:20260605T220000
DTSTAMP:20260424T235928
CREATED:20260414T081528Z
LAST-MODIFIED:20260415T101232Z
UID:10001561-1780686000-1780696800@ctip.org.uk
SUMMARY:Love Plymouth 5th June - 7th June
DESCRIPTION:
URL:https://ctip.org.uk/event-list/love-plymouth-5th-june-7th-june/
LOCATION:Devon
END:VEVENT
BEGIN:VEVENT
DTSTART;TZID=UTC:20260606T093000
DTEND;TZID=UTC:20260606T120000
DTSTAMP:20260424T235928
CREATED:20260224T155453Z
LAST-MODIFIED:20260224T155453Z
UID:10001548-1780738200-1780747200@ctip.org.uk
SUMMARY:Prayer Meeting for Food Bank and Lost Youth
DESCRIPTION:covering prayer dates for the foodbank and lost youth. Apart from March we meet on the first Saturday of the month. (March will be the 14th) With a rotation each month between the Foodbank and JC’s the youth café at PMCH.
URL:https://ctip.org.uk/event-list/prayer-meeting-for-food-bank-and-lost-youth-2/2026-06-06/
LOCATION:Methodist Central Hall\, Eastlake Street\, Plymouth\, Devon\, PL1 1BA\, United Kingdom
END:VEVENT
BEGIN:VEVENT
DTSTART;TZID=UTC:20260619T080000
DTEND;TZID=UTC:20260619T093000
DTSTAMP:20260424T235928
CREATED:20260226T142223Z
LAST-MODIFIED:20260227T093952Z
UID:10001556-1781856000-1781861400@ctip.org.uk
SUMMARY:CIVIC PRAYER BREAKFAST
DESCRIPTION:For more information please contact Mark Oliver by email here
URL:https://ctip.org.uk/event-list/city-prayer-breakfast/
LOCATION:Corinthian Club\, Madeira Road\, Plymouth\, PL1 2NY
END:VEVENT
BEGIN:VEVENT
DTSTART;TZID=UTC:20260704T093000
DTEND;TZID=UTC:20260704T120000
DTSTAMP:20260424T235928
CREATED:20260224T155453Z
LAST-MODIFIED:20260224T155453Z
UID:10001549-1783157400-1783166400@ctip.org.uk
SUMMARY:Prayer Meeting for Food Bank and Lost Youth
DESCRIPTION:covering prayer dates for the foodbank and lost youth. Apart from March we meet on the first Saturday of the month. (March will be the 14th) With a rotation each month between the Foodbank and JC’s the youth café at PMCH.
URL:https://ctip.org.uk/event-list/prayer-meeting-for-food-bank-and-lost-youth-2/2026-07-04/
LOCATION:Methodist Central Hall\, Eastlake Street\, Plymouth\, Devon\, PL1 1BA\, United Kingdom
END:VEVENT
BEGIN:VEVENT
DTSTART;TZID=UTC:20260801T093000
DTEND;TZID=UTC:20260801T120000
DTSTAMP:20260424T235928
CREATED:20260224T155453Z
LAST-MODIFIED:20260224T155453Z
UID:10001550-1785576600-1785585600@ctip.org.uk
SUMMARY:Prayer Meeting for Food Bank and Lost Youth
DESCRIPTION:covering prayer dates for the foodbank and lost youth. Apart from March we meet on the first Saturday of the month. (March will be the 14th) With a rotation each month between the Foodbank and JC’s the youth café at PMCH.
URL:https://ctip.org.uk/event-list/prayer-meeting-for-food-bank-and-lost-youth-2/2026-08-01/
LOCATION:Methodist Central Hall\, Eastlake Street\, Plymouth\, Devon\, PL1 1BA\, United Kingdom
END:VEVENT
BEGIN:VEVENT
DTSTART;TZID=UTC:20260905T093000
DTEND;TZID=UTC:20260905T120000
DTSTAMP:20260424T235928
CREATED:20260224T155453Z
LAST-MODIFIED:20260224T155453Z
UID:10001551-1788600600-1788609600@ctip.org.uk
SUMMARY:Prayer Meeting for Food Bank and Lost Youth
DESCRIPTION:covering prayer dates for the foodbank and lost youth. Apart from March we meet on the first Saturday of the month. (March will be the 14th) With a rotation each month between the Foodbank and JC’s the youth café at PMCH.
URL:https://ctip.org.uk/event-list/prayer-meeting-for-food-bank-and-lost-youth-2/2026-09-05/
LOCATION:Methodist Central Hall\, Eastlake Street\, Plymouth\, Devon\, PL1 1BA\, United Kingdom
END:VEVENT
BEGIN:VEVENT
DTSTART;TZID=UTC:20261003T093000
DTEND;TZID=UTC:20261003T120000
DTSTAMP:20260424T235928
CREATED:20260224T155453Z
LAST-MODIFIED:20260224T155453Z
UID:10001552-1791019800-1791028800@ctip.org.uk
SUMMARY:Prayer Meeting for Food Bank and Lost Youth
DESCRIPTION:covering prayer dates for the foodbank and lost youth. Apart from March we meet on the first Saturday of the month. (March will be the 14th) With a rotation each month between the Foodbank and JC’s the youth café at PMCH.
URL:https://ctip.org.uk/event-list/prayer-meeting-for-food-bank-and-lost-youth-2/2026-10-03/
LOCATION:Methodist Central Hall\, Eastlake Street\, Plymouth\, Devon\, PL1 1BA\, United Kingdom
END:VEVENT
BEGIN:VEVENT
DTSTART;TZID=UTC:20261107T093000
DTEND;TZID=UTC:20261107T120000
DTSTAMP:20260424T235928
CREATED:20260224T155453Z
LAST-MODIFIED:20260224T155453Z
UID:10001553-1794043800-1794052800@ctip.org.uk
SUMMARY:Prayer Meeting for Food Bank and Lost Youth
DESCRIPTION:covering prayer dates for the foodbank and lost youth. Apart from March we meet on the first Saturday of the month. (March will be the 14th) With a rotation each month between the Foodbank and JC’s the youth café at PMCH.
URL:https://ctip.org.uk/event-list/prayer-meeting-for-food-bank-and-lost-youth-2/2026-11-07/
LOCATION:Methodist Central Hall\, Eastlake Street\, Plymouth\, Devon\, PL1 1BA\, United Kingdom
END:VEVENT
BEGIN:VEVENT
DTSTART;TZID=UTC:20261205T093000
DTEND;TZID=UTC:20261205T120000
DTSTAMP:20260424T235928
CREATED:20260224T155453Z
LAST-MODIFIED:20260224T155453Z
UID:10001554-1796463000-1796472000@ctip.org.uk
SUMMARY:Prayer Meeting for Food Bank and Lost Youth
DESCRIPTION:covering prayer dates for the foodbank and lost youth. Apart from March we meet on the first Saturday of the month. (March will be the 14th) With a rotation each month between the Foodbank and JC’s the youth café at PMCH.
URL:https://ctip.org.uk/event-list/prayer-meeting-for-food-bank-and-lost-youth-2/2026-12-05/
LOCATION:Methodist Central Hall\, Eastlake Street\, Plymouth\, Devon\, PL1 1BA\, United Kingdom
END:VEVENT
END:VCALENDAR