BEGIN:VCALENDAR
VERSION:2.0
PRODID:-//CTIP - ECPv6.15.18//NONSGML v1.0//EN
CALSCALE:GREGORIAN
METHOD:PUBLISH
X-WR-CALNAME:CTIP
X-ORIGINAL-URL:https://ctip.org.uk
X-WR-CALDESC:Events for CTIP
REFRESH-INTERVAL;VALUE=DURATION:PT1H
X-Robots-Tag:noindex
X-PUBLISHED-TTL:PT1H
BEGIN:VTIMEZONE
TZID:UTC
BEGIN:STANDARD
TZOFFSETFROM:+0000
TZOFFSETTO:+0000
TZNAME:UTC
DTSTART:20220101T000000
END:STANDARD
END:VTIMEZONE
BEGIN:VEVENT
DTSTART;TZID=UTC:20230721T190000
DTEND;TZID=UTC:20230721T200000
DTSTAMP:20260423T235505
CREATED:20230717T155314Z
LAST-MODIFIED:20230717T155641Z
UID:10000269-1689966000-1689969600@ctip.org.uk
SUMMARY:Exploring Prison Ministry
DESCRIPTION:As you may have heard\, we are running our next Exploring Prison Ministry event on 21st July . It is an opportunity for people to explore what being a volunteer with Prison Fellowship involves. Join us via zoom to find out more. For more information click here.
URL:https://ctip.org.uk/event-list/exploring-prison-ministry/
END:VEVENT
BEGIN:VEVENT
DTSTART;TZID=UTC:20230708T073000
DTEND;TZID=UTC:20230708T213000
DTSTAMP:20260423T235505
CREATED:20230630T103622Z
LAST-MODIFIED:20230630T104436Z
UID:10000185-1688801400-1688851800@ctip.org.uk
SUMMARY:An Enchanted Evening
DESCRIPTION:Join us for an evening of poetry\, music and song.
URL:https://ctip.org.uk/event-list/an-enchanted-evening-8th-july/
LOCATION:Thge hall ar Bemridge\, The Hall\, Bremridge\, TQ13 7JX
END:VEVENT
BEGIN:VEVENT
DTSTART;TZID=UTC:20230706T000000
DTEND;TZID=UTC:20230708T000000
DTSTAMP:20260423T235505
CREATED:20230629T122400Z
LAST-MODIFIED:20230629T122437Z
UID:10000184-1688601600-1688774400@ctip.org.uk
SUMMARY:Jesus Revolution in Vue Cinema
DESCRIPTION:The Jesus Revolution film has recently been in the Vue Cinema\, reports are that is was excellent and Vue are showing it again on July 6th to 8th. It is set in 1968/69 in southern California towards the end of the hippie movement and follows the true story of Lorrie Frisbee and Chuck Smith. \nYou can see a trailer by following the link below; \nhttps://www.youtube.com/watch?v=8vmHFvnjPDw
URL:https://ctip.org.uk/event-list/jesus-revolution-in-vue-cinema/
LOCATION:Vue Cinema
END:VEVENT
BEGIN:VEVENT
DTSTART;TZID=UTC:20230704T103000
DTEND;TZID=UTC:20230704T113000
DTSTAMP:20260423T235505
CREATED:20230605T101922Z
LAST-MODIFIED:20230605T101922Z
UID:10000182-1688466600-1688470200@ctip.org.uk
SUMMARY:Re:Sourced – Understanding Benefits
DESCRIPTION:Tuesday 4th July \n10-11.30am \nSt Marks Church  PL2 1EN \nJob Centre Support\, how to help vulnerable and anxious people access the support available to them. \nhttps://www.eventbrite.co.uk/e/understanding-benefits-tickets-609201627467
URL:https://ctip.org.uk/event-list/resourced-understanding-benefits/
LOCATION:St Marks\, 1 Sanctuary Close\, Ford\, Plymouth\, PL2 1EN
END:VEVENT
BEGIN:VEVENT
DTSTART;TZID=UTC:20230620T100000
DTEND;TZID=UTC:20230620T123000
DTSTAMP:20260423T235505
CREATED:20230417T135654Z
LAST-MODIFIED:20230507T184042Z
UID:10000264-1687255200-1687264200@ctip.org.uk
SUMMARY:REHUBS
DESCRIPTION:Details can be found on the attached flyer\, or here: \nhttps://www.natre.org.uk/regionalrehubs-training/
URL:https://ctip.org.uk/event-list/rehubs-3/
END:VEVENT
BEGIN:VEVENT
DTSTART;TZID=UTC:20230618T110000
DTEND;TZID=UTC:20230618T140000
DTSTAMP:20260423T235505
CREATED:20230507T172855Z
LAST-MODIFIED:20230507T172855Z
UID:10000178-1687086000-1687096800@ctip.org.uk
SUMMARY:Unity Festival
DESCRIPTION:
URL:https://ctip.org.uk/event-list/unity-festival-2/
LOCATION:Plymouth City Centre\, Place De Brest\, Plymouth
END:VEVENT
BEGIN:VEVENT
DTSTART;TZID=UTC:20230617T110000
DTEND;TZID=UTC:20230617T160000
DTSTAMP:20260423T235505
CREATED:20230507T172738Z
LAST-MODIFIED:20230507T172738Z
UID:10000177-1686999600-1687017600@ctip.org.uk
SUMMARY:Unity Festival
DESCRIPTION:
URL:https://ctip.org.uk/event-list/unity-festival/
LOCATION:Plymouth City Centre\, Place De Brest\, Plymouth
END:VEVENT
BEGIN:VEVENT
DTSTART;TZID=UTC:20230613T120000
DTEND;TZID=UTC:20230613T133000
DTSTAMP:20260423T235505
CREATED:20230607T100447Z
LAST-MODIFIED:20230607T100447Z
UID:10000183-1686657600-1686663000@ctip.org.uk
SUMMARY:Prayer Meeting for North Plymouth
DESCRIPTION:
URL:https://ctip.org.uk/event-list/prayer-meeting-for-north-plymouth/
LOCATION:The Worship Centre\, Plymbridge Road\, Estover 7L\, Plymouth\, PL6 7LF
END:VEVENT
BEGIN:VEVENT
DTSTART;TZID=UTC:20230613T100000
DTEND;TZID=UTC:20230613T113000
DTSTAMP:20260423T235505
CREATED:20230605T101458Z
LAST-MODIFIED:20230605T101458Z
UID:10000181-1686650400-1686655800@ctip.org.uk
SUMMARY:Re:Sourced – Food Poverty and Resilience
DESCRIPTION:Tuesday June 13th \n10-11.30am \nSt Marks Church  PL2 1EN \nJohn Williams and guest speaker Kelly Fritzche will discus the challenges facing churches to meet the issue of food and financial insecurity. How can churches contribute to sustainable community support and shift from a culture of trying to fix problems\, and give to those in need\, to creating opportunities for resilience. \nhttps://www.eventbrite.co.uk/e/food-poverty-resilience-tickets-595900433237 \n 
URL:https://ctip.org.uk/event-list/resourced-food-poverty-and-resilience/
LOCATION:St Marks\, 1 Sanctuary Close\, Ford\, Plymouth\, PL2 1EN
END:VEVENT
BEGIN:VEVENT
DTSTART;TZID=UTC:20230612T180000
DTEND;TZID=UTC:20230612T200000
DTSTAMP:20260423T235505
CREATED:20230522T094049Z
LAST-MODIFIED:20230522T094420Z
UID:10000180-1686592800-1686600000@ctip.org.uk
SUMMARY:Safe Families 1 year Celebration
DESCRIPTION:RSVP wendyclift@safefamilies.uk
URL:https://ctip.org.uk/event-list/safe-families-1-year-celebration/
LOCATION:Devonport and Morice Salvation Army\, Devonport Morice Town Salvation Army\, Balfour Terrace\, PLYMOUTH\, PL2 1RS
END:VEVENT
BEGIN:VEVENT
DTSTART;TZID=UTC:20230610T193000
DTEND;TZID=UTC:20230610T213000
DTSTAMP:20260423T235505
CREATED:20230511T085833Z
LAST-MODIFIED:20230511T085922Z
UID:10000179-1686425400-1686432600@ctip.org.uk
SUMMARY:Steve Murray - Mime Artist
DESCRIPTION:
URL:https://ctip.org.uk/event-list/steve-murray-mime-artist/
LOCATION:Methodist Central Hall\, Eastlake Street\, Plymouth\, Devon\, PL1 1BA\, United Kingdom
END:VEVENT
BEGIN:VEVENT
DTSTART;TZID=UTC:20230608T090000
DTEND;TZID=UTC:20230608T130000
DTSTAMP:20260423T235505
CREATED:20230322T095936Z
LAST-MODIFIED:20230324T150743Z
UID:10000241-1686214800-1686229200@ctip.org.uk
SUMMARY:Theology Matters
DESCRIPTION:“Theology Matters” Conference is taking place 6-8 June here at Redeemer Church.  We are delighted to have Bruce Ware from Southern Baptist Seminary and author of several books including God’s Lesser Glory; God’s Greater Glory and The Man Christ Jesus joining us to speak on the Attributes of God.  He was also former President of the Evangelical Theology Society.\n\nCost of the conference is £105pp; £180 per couple and £95 for students/student workers.  This will include light refreshments Tuesday afternoon; light refreshments and light lunch Wednesday; and light refreshments Thursday morning.\n\nDoors open 1pm on Tuesday for a 2pm start with a 1pm finish on Wednesday.\n\nFor more information go to: https://www.theologymatters.co.uk/theology-matters-conference-copy
URL:https://ctip.org.uk/event-list/theology-matters-3/
LOCATION:Redeemer Church\, Redeemer Church\, St Barnabas Terrace\, Plymouth\, PL1 5NN
END:VEVENT
BEGIN:VEVENT
DTSTART;TZID=UTC:20230607T090000
DTEND;TZID=UTC:20230607T180000
DTSTAMP:20260423T235505
CREATED:20230322T095758Z
LAST-MODIFIED:20230324T150851Z
UID:10000240-1686128400-1686160800@ctip.org.uk
SUMMARY:Theology Matters
DESCRIPTION:“Theology Matters” Conference is taking place 6-8 June here at Redeemer Church.  We are delighted to have Bruce Ware from Southern Baptist Seminary and author of several books including God’s Lesser Glory; God’s Greater Glory and The Man Christ Jesus joining us to speak on the Attributes of God.  He was also former President of the Evangelical Theology Society.\n\nCost of the conference is £105pp; £180 per couple and £95 for students/student workers.  This will include light refreshments Tuesday afternoon; light refreshments and light lunch Wednesday; and light refreshments Thursday morning.\n\nDoors open 1pm on Tuesday for a 2pm start with a 1pm finish on Wednesday.\nFor more information go to: https://www.theologymatters.co.uk/theology-matters-conference-copy
URL:https://ctip.org.uk/event-list/theology-matters-2/
LOCATION:Redeemer Church\, Redeemer Church\, St Barnabas Terrace\, Plymouth\, PL1 5NN
END:VEVENT
BEGIN:VEVENT
DTSTART;TZID=UTC:20230606T140000
DTEND;TZID=UTC:20230606T170000
DTSTAMP:20260423T235505
CREATED:20230322T095457Z
LAST-MODIFIED:20230324T151010Z
UID:10000239-1686060000-1686070800@ctip.org.uk
SUMMARY:Theology Matters
DESCRIPTION:“Theology Matters” Conference is taking place 6-8 June here at Redeemer Church.  We are delighted to have Bruce Ware from Southern Baptist Seminary and author of several books including God’s Lesser Glory; God’s Greater Glory and The Man Christ Jesus joining us to speak on the Attributes of God.  He was also former President of the Evangelical Theology Society.\n\nCost of the conference is £105pp; £180 per couple and £95 for students/student workers.  This will include light refreshments Tuesday afternoon; light refreshments and light lunch Wednesday; and light refreshments Thursday morning.\n\nDoors open 1pm on Tuesday for a 2pm start with a 1pm finish on Wednesday.\n\nFor more information go to:  https://www.theologymatters.co.uk/theology-matters-conference-copy 
URL:https://ctip.org.uk/event-list/theology-matters/
LOCATION:Redeemer Church\, Redeemer Church\, St Barnabas Terrace\, Plymouth\, PL1 5NN
END:VEVENT
BEGIN:VEVENT
DTSTART;VALUE=DATE:20230526
DTEND;VALUE=DATE:20230530
DTSTAMP:20260423T235505
CREATED:20230322T171851Z
LAST-MODIFIED:20230512T092353Z
UID:10000243-1685059200-1685404799@ctip.org.uk
SUMMARY:Bush Conference 2023
DESCRIPTION:  \nTo book or for more information email: cornwallbushconference@hotmail.co.uk
URL:https://ctip.org.uk/event-list/bush-conference-2023/
LOCATION:Higher Chapel Farm\, Higher Chapel Farm\,\, Halton Quay\, PL12 6SL
END:VEVENT
BEGIN:VEVENT
DTSTART;TZID=UTC:20230524T193000
DTEND;TZID=UTC:20230524T193000
DTSTAMP:20260423T235505
CREATED:20230507T164012Z
LAST-MODIFIED:20230507T184013Z
UID:10000266-1684956600-1684956600@ctip.org.uk
SUMMARY:How can a church be dementia friendly?
DESCRIPTION:How can a church be dementia friendly? \nA session for everyone in the church \nLed by Mr Ian Sherriff \nHead of the Prime Minister’s Task and Finish group for rural dementia \nWednesday May 24th 7.30.p.m. \nMorice Baptist Church\, Ham Drive\, PL2 2NJ \nAll welcome
URL:https://ctip.org.uk/event-list/how-can-a-church-be-dementia-friendly/
LOCATION:Morice Baptist Church\, Morice Baptist Church\, Ham Drive\, Plymouth\, PL2 2NJ
END:VEVENT
BEGIN:VEVENT
DTSTART;TZID=UTC:20230520T193000
DTEND;TZID=UTC:20230520T213000
DTSTAMP:20260423T235505
CREATED:20230407T114005Z
LAST-MODIFIED:20230512T085310Z
UID:10000258-1684611000-1684618200@ctip.org.uk
SUMMARY:Philippa Hanna - Stain Glass Stories
DESCRIPTION:
URL:https://ctip.org.uk/event-list/philippa-hanna-stain-glass-stories/
LOCATION:Exeter Cathedral\, 1 The Cloisters\, Exeter\, EX1 1HS
END:VEVENT
BEGIN:VEVENT
DTSTART;TZID=UTC:20230520T103000
DTEND;TZID=UTC:20230520T113000
DTSTAMP:20260423T235505
CREATED:20230405T095333Z
LAST-MODIFIED:20230405T101503Z
UID:10000250-1684578600-1684582200@ctip.org.uk
SUMMARY:South West Awake - Praying on the South West Coast Path.
DESCRIPTION:Saturday 20th May\, 10.30am \nStanding on the South West Coast Path with thousands of Christians to pray \nhttps://www.southwestawake.com/
URL:https://ctip.org.uk/event-list/south-west-awake/
END:VEVENT
BEGIN:VEVENT
DTSTART;VALUE=DATE:20230519
DTEND;VALUE=DATE:20230522
DTSTAMP:20260423T235505
CREATED:20230313T115449Z
LAST-MODIFIED:20230313T115449Z
UID:10000233-1684454400-1684713599@ctip.org.uk
SUMMARY:Love South West 2023
DESCRIPTION:For more information follow this link
URL:https://ctip.org.uk/event-list/love-south-west-2023/
END:VEVENT
BEGIN:VEVENT
DTSTART;TZID=UTC:20230517T130000
DTEND;TZID=UTC:20230517T143000
DTSTAMP:20260423T235505
CREATED:20230329T093445Z
LAST-MODIFIED:20230329T094318Z
UID:10000245-1684328400-1684333800@ctip.org.uk
SUMMARY:Re:Sourced Church Leaders; Addiction
DESCRIPTION:Thinking about problematic relationships with alcohol and other substances.  Mark Bignell CEO Hamoaze House\, gives an overview of the thinking around the issue and current provision and support within the city. \nhttps://www.eventbrite.co.uk/e/557707386807
URL:https://ctip.org.uk/event-list/tpt-resourced-church-leaders-addiction/
LOCATION:St Marks\, 1 Sanctuary Close\, Ford\, Plymouth\, PL2 1EN
END:VEVENT
BEGIN:VEVENT
DTSTART;TZID=UTC:20230517T110000
DTEND;TZID=UTC:20230517T113000
DTSTAMP:20260423T235505
CREATED:20230417T135417Z
LAST-MODIFIED:20230417T135417Z
UID:10000262-1684321200-1684323000@ctip.org.uk
SUMMARY:REHUBS
DESCRIPTION:Details can be found on the attached flyer\, or here: \nhttps://www.natre.org.uk/regionalrehubs-training/
URL:https://ctip.org.uk/event-list/rehubs-2/
END:VEVENT
BEGIN:VEVENT
DTSTART;TZID=UTC:20230516T100000
DTEND;TZID=UTC:20230516T150000
DTSTAMP:20260423T235505
CREATED:20230507T170253Z
LAST-MODIFIED:20230507T170253Z
UID:10000267-1684231200-1684249200@ctip.org.uk
SUMMARY:Linking Lives online conference
DESCRIPTION:I just wanted to let you know about our upcoming online annual conference! On Tuesday 16th May from 10am-3pm\, Linking Lives UK will be hosting a unique opportunity to hear from some great speakers\, as well as being encouraged in the journey together against loneliness. We are delighted have MP Kim Leadbeater presenting a keynote speech\, as well as author Phil Knox leading a workshop on the Power of Friendship. It is our hope that the event will leave everyone feeling inspired and better equipped in our journey together against loneliness. \n \nhttps://www.eventbrite.co.uk/e/together-for-the-journey-lluk-annual-conference-2023-tickets-595867193817
URL:https://ctip.org.uk/event-list/linking-lives-online-conference/
LOCATION:Online
END:VEVENT
BEGIN:VEVENT
DTSTART;TZID=UTC:20230513T080000
DTEND;TZID=UTC:20230513T150000
DTSTAMP:20260423T235505
CREATED:20230308T195746Z
LAST-MODIFIED:20230308T195834Z
UID:10000232-1683964800-1683990000@ctip.org.uk
SUMMARY:Sharper 23
DESCRIPTION:Sharper 23 – Treachery\, Truth and Trust – Join this gathering of men for a day of friendship\, teaching\, laughter and\, of course\, food!
URL:https://ctip.org.uk/event-list/sharper-23/
LOCATION:Plymouth Christian Centre\, Embankment Road\, Plymouth\, PL4 9HP
END:VEVENT
BEGIN:VEVENT
DTSTART;TZID=UTC:20230427T190000
DTEND;TZID=UTC:20230427T203000
DTSTAMP:20260423T235505
CREATED:20230318T165356Z
LAST-MODIFIED:20230322T100212Z
UID:10000237-1682622000-1682627400@ctip.org.uk
SUMMARY:Unity Service 2023
DESCRIPTION:Join us for an evening of worship\, prayer\, city updates and teaching. Come as individuals or churches. Bring your mid week groups. Let’s spend an evening together as the body of Christ in Plymouth.
URL:https://ctip.org.uk/event-list/unity-service-2023-2/
LOCATION:Plymouth Christian Centre\, Embankment Road\, Plymouth\, PL4 9HP
END:VEVENT
BEGIN:VEVENT
DTSTART;TZID=UTC:20230419T100000
DTEND;TZID=UTC:20230419T113000
DTSTAMP:20260423T235505
CREATED:20230315T155746Z
LAST-MODIFIED:20230329T094240Z
UID:10000235-1681898400-1681903800@ctip.org.uk
SUMMARY:Re:Sourced Church Leaders - Church Comms
DESCRIPTION:  \nHannah Fleming-Hill will Re:Source churches to use digital for kingdom building\, gospel sharing\, disciple making and social action. \nhttps://www.eventbrite.co.uk/e/549202859537 \n \n 
URL:https://ctip.org.uk/event-list/tpt-re-sourced-events-church-online/
LOCATION:St Marks\, 1 Sanctuary Close\, Ford\, Plymouth\, PL2 1EN
END:VEVENT
BEGIN:VEVENT
DTSTART;TZID=UTC:20230418T140000
DTEND;TZID=UTC:20230418T153000
DTSTAMP:20260423T235505
CREATED:20230417T134434Z
LAST-MODIFIED:20230417T134901Z
UID:10000260-1681826400-1681831800@ctip.org.uk
SUMMARY:REHUBS
DESCRIPTION:Details can be found on the attached flyer\, or here: \nhttps://www.natre.org.uk/regionalrehubs-training/
URL:https://ctip.org.uk/event-list/rehubs/
END:VEVENT
BEGIN:VEVENT
DTSTART;TZID=UTC:20230409T190000
DTEND;TZID=UTC:20230409T210000
DTSTAMP:20260423T235505
CREATED:20230329T110331Z
LAST-MODIFIED:20230329T110359Z
UID:10000248-1681066800-1681074000@ctip.org.uk
SUMMARY:United Easter Praise Celebration
DESCRIPTION:The Methodist invite you to an United Easter Praise Celebration at Methodist Central Hall on Easter Sunday. Led by Gareth Higgs with teaching from Andy Chislett-Macdonald and Amanda Roper leading communion.
URL:https://ctip.org.uk/event-list/united-easter-praise-celebration/
LOCATION:Methodist Central Hall\, Eastlake Street\, Plymouth\, Devon\, PL1 1BA\, United Kingdom
END:VEVENT
BEGIN:VEVENT
DTSTART;TZID=UTC:20230401T163000
DTEND;TZID=UTC:20230401T210000
DTSTAMP:20260423T235506
CREATED:20230320T101134Z
LAST-MODIFIED:20230324T145947Z
UID:10000238-1680366600-1680382800@ctip.org.uk
SUMMARY:Open Air Cinema
DESCRIPTION:
URL:https://ctip.org.uk/event-list/oppen-air-cinema/
LOCATION:Bull Point Barracks\, Bull Point Barracks\, Foulston Ave\, Plymoouth\, PL5 1HR
END:VEVENT
BEGIN:VEVENT
DTSTART;TZID=UTC:20230325T084500
DTEND;TZID=UTC:20230325T170000
DTSTAMP:20260423T235506
CREATED:20230130T120128Z
LAST-MODIFIED:20230218T110837Z
UID:10000220-1679733900-1679763600@ctip.org.uk
SUMMARY:Made For You
DESCRIPTION:https://ctip.org.uk/wp-content/uploads/2023/02/Made-for-you-1.mp4\nWoman’s conference hosted by Lou Fellingham with Elle Limebear and Kathy Madavan. \n 
URL:https://ctip.org.uk/event-list/made-for-you/
LOCATION:St Martin’s Church\, The Church Centre\, Liskeard. PL14 3AQ\, St Martin's Church\, The Church Centre\,\, Liskeard\, PL14 4AQ
END:VEVENT
BEGIN:VEVENT
DTSTART;TZID=UTC:20230324T193000
DTEND;TZID=UTC:20230324T213000
DTSTAMP:20260423T235506
CREATED:20230316T093625Z
LAST-MODIFIED:20230316T103214Z
UID:10000236-1679686200-1679693400@ctip.org.uk
SUMMARY:Trace the line Concert
DESCRIPTION:Special concert at Morice Baptist Church (Ham Drive PL2 2NJ) \n7.30.p.m. Friday March 24th \nYvonne Lyon\, Gareth Davies-Jones and David Lyon \nAs featured on BBC Radios 2 and 4 and Radio Scotland \nPerform music inspired by the Sermon on the Mount \nPart of the Trace the Line tour \nFree entry – retiring offering \n 
URL:https://ctip.org.uk/event-list/trace-the-line-concert/
LOCATION:Morice Baptist Church\, Morice Baptist Church\, Ham Drive\, Plymouth\, PL2 2NJ
END:VEVENT
END:VCALENDAR